BEGIN:VCALENDAR
VERSION:2.0
PRODID:-//Just Call Me Ray - ECPv6.15.20//NONSGML v1.0//EN
CALSCALE:GREGORIAN
METHOD:PUBLISH
X-ORIGINAL-URL:https://justcallmeray.org
X-WR-CALDESC:Events for Just Call Me Ray
REFRESH-INTERVAL;VALUE=DURATION:PT1H
X-Robots-Tag:noindex
X-PUBLISHED-TTL:PT1H
BEGIN:VTIMEZONE
TZID:America/Chicago
BEGIN:DAYLIGHT
TZOFFSETFROM:-0600
TZOFFSETTO:-0500
TZNAME:CDT
DTSTART:20180311T080000
END:DAYLIGHT
BEGIN:STANDARD
TZOFFSETFROM:-0500
TZOFFSETTO:-0600
TZNAME:CST
DTSTART:20181104T070000
END:STANDARD
BEGIN:DAYLIGHT
TZOFFSETFROM:-0600
TZOFFSETTO:-0500
TZNAME:CDT
DTSTART:20190310T080000
END:DAYLIGHT
BEGIN:STANDARD
TZOFFSETFROM:-0500
TZOFFSETTO:-0600
TZNAME:CST
DTSTART:20191103T070000
END:STANDARD
BEGIN:DAYLIGHT
TZOFFSETFROM:-0600
TZOFFSETTO:-0500
TZNAME:CDT
DTSTART:20200308T080000
END:DAYLIGHT
BEGIN:STANDARD
TZOFFSETFROM:-0500
TZOFFSETTO:-0600
TZNAME:CST
DTSTART:20201101T070000
END:STANDARD
END:VTIMEZONE
BEGIN:VEVENT
DTSTART;TZID=America/Chicago:20191214T130000
DTEND;TZID=America/Chicago:20191214T150000
DTSTAMP:20260424T155046
CREATED:20191105T034736Z
LAST-MODIFIED:20191105T034736Z
UID:3565-1576328400-1576335600@justcallmeray.org
SUMMARY:My Last...First Show
DESCRIPTION:Just Call Me Ray is proud to sponsor the musical biography about Becky Viola and her journey through cancer. Becky’s performance will get you in the holiday spirit with her heartwarming story about living through and surviving ovarian cancer. Her contagious joyful spirit will make you smile\, laugh and even cry as she shares with you how laughter is truly the best medicine with the love of family  and a lot of faith. \nShow features: music\, storytelling\, audience engagement and surprises. \nTickets:  $10 per person ($15 for premium) purchase online at showboattheatre.org. \nProceeds go to the Showboat Community Theatre in Hermann\, MO. The Showboat Community Theatre is a 501(c)(3) not-for-profit organization.
URL:https://justcallmeray.org/event/my-last-first-show/
LOCATION:Showboat Community Theatre\, 112 East 4th Street\, Hermann\, MO\, 65041\, United States
CATEGORIES:Other Events
ATTACH;FMTTYPE=image/jpeg:https://justcallmeray.org/wp-content/uploads/My-First-Last-Show-Facebook-Event-Cover.jpg
ORGANIZER;CN="Just Call Me Ray":MAILTO:events@justcallmeray,org
END:VEVENT
BEGIN:VEVENT
DTSTART;TZID=America/Chicago:20191101T130000
DTEND;TZID=America/Chicago:20191101T170000
DTSTAMP:20260424T155046
CREATED:20190827T233021Z
LAST-MODIFIED:20191003T022347Z
UID:215-1572613200-1572627600@justcallmeray.org
SUMMARY:Adam Puchta Winery’s Doe Camp
DESCRIPTION:Adam Puctha Winery’s 9th annual Doe Camp is a fundraiser for the Hermann Area Crusade Against Cancer and the Just Call Me Ray organization. Doe Camp is a ladies night out where they feature wine tastings\, vendors\, massages\, raffles and more. The event is open to the public. All funds raised by selling raffle tickets for gift packages. \nAdmission: $5
URL:https://justcallmeray.org/event/adam-puchta-winerys-doe-camp/
LOCATION:Adam Puchta Winery\, 1947 Frene Creek Road\, Hermann\, MO\, 65041\, United States
CATEGORIES:Other Events
ATTACH;FMTTYPE=image/jpeg:https://justcallmeray.org/wp-content/uploads/2019/08/Doe-Camp-2019.jpg
ORGANIZER;CN="Adam Puchta Winery":MAILTO:info@adampuchtawine.com
END:VEVENT
END:VCALENDAR