BEGIN:VCALENDAR
VERSION:2.0
PRODID:-//Just Call Me Ray - ECPv6.15.20//NONSGML v1.0//EN
CALSCALE:GREGORIAN
METHOD:PUBLISH
X-ORIGINAL-URL:https://justcallmeray.org
X-WR-CALDESC:Events for Just Call Me Ray
REFRESH-INTERVAL;VALUE=DURATION:PT1H
X-Robots-Tag:noindex
X-PUBLISHED-TTL:PT1H
BEGIN:VTIMEZONE
TZID:America/Chicago
BEGIN:DAYLIGHT
TZOFFSETFROM:-0600
TZOFFSETTO:-0500
TZNAME:CDT
DTSTART:20180311T080000
END:DAYLIGHT
BEGIN:STANDARD
TZOFFSETFROM:-0500
TZOFFSETTO:-0600
TZNAME:CST
DTSTART:20181104T070000
END:STANDARD
BEGIN:DAYLIGHT
TZOFFSETFROM:-0600
TZOFFSETTO:-0500
TZNAME:CDT
DTSTART:20190310T080000
END:DAYLIGHT
BEGIN:STANDARD
TZOFFSETFROM:-0500
TZOFFSETTO:-0600
TZNAME:CST
DTSTART:20191103T070000
END:STANDARD
BEGIN:DAYLIGHT
TZOFFSETFROM:-0600
TZOFFSETTO:-0500
TZNAME:CDT
DTSTART:20200308T080000
END:DAYLIGHT
BEGIN:STANDARD
TZOFFSETFROM:-0500
TZOFFSETTO:-0600
TZNAME:CST
DTSTART:20201101T070000
END:STANDARD
BEGIN:DAYLIGHT
TZOFFSETFROM:-0600
TZOFFSETTO:-0500
TZNAME:CDT
DTSTART:20210314T080000
END:DAYLIGHT
BEGIN:STANDARD
TZOFFSETFROM:-0500
TZOFFSETTO:-0600
TZNAME:CST
DTSTART:20211107T070000
END:STANDARD
BEGIN:DAYLIGHT
TZOFFSETFROM:-0600
TZOFFSETTO:-0500
TZNAME:CDT
DTSTART:20220313T080000
END:DAYLIGHT
BEGIN:STANDARD
TZOFFSETFROM:-0500
TZOFFSETTO:-0600
TZNAME:CST
DTSTART:20221106T070000
END:STANDARD
BEGIN:DAYLIGHT
TZOFFSETFROM:-0600
TZOFFSETTO:-0500
TZNAME:CDT
DTSTART:20230312T080000
END:DAYLIGHT
BEGIN:STANDARD
TZOFFSETFROM:-0500
TZOFFSETTO:-0600
TZNAME:CST
DTSTART:20231105T070000
END:STANDARD
BEGIN:DAYLIGHT
TZOFFSETFROM:-0600
TZOFFSETTO:-0500
TZNAME:CDT
DTSTART:20240310T080000
END:DAYLIGHT
BEGIN:STANDARD
TZOFFSETFROM:-0500
TZOFFSETTO:-0600
TZNAME:CST
DTSTART:20241103T070000
END:STANDARD
BEGIN:DAYLIGHT
TZOFFSETFROM:-0600
TZOFFSETTO:-0500
TZNAME:CDT
DTSTART:20250309T080000
END:DAYLIGHT
BEGIN:STANDARD
TZOFFSETFROM:-0500
TZOFFSETTO:-0600
TZNAME:CST
DTSTART:20251102T070000
END:STANDARD
END:VTIMEZONE
BEGIN:VEVENT
DTSTART;TZID=America/Chicago:20240215T173000
DTEND;TZID=America/Chicago:20240215T210000
DTSTAMP:20260424T104624
CREATED:20211230T015041Z
LAST-MODIFIED:20240125T065737Z
UID:9641-1708018200-1708030800@justcallmeray.org
SUMMARY:Hope with Hoses & Handbags - 2024
DESCRIPTION:We hope you can join us for one of Hermann’s most memorable events of the year! Just Call Me Ray and the Ladies Auxiliary of the Hermann Volunteer Fire Department hosts Hope with Hoses & Handbags fundraiser. We are raising money to provide awareness of the dangers associated with breast implants\, help people rise up through their cancer battles and to purchase life-saving equipment for the fire department. This one-of-a-kind event is full of great networking\, delicious food\, signature drinks\, and the opportunity to walk away with a designer handbag (or handbags!). \n\nThis one-of-a-kind event will feature beautiful\, high-end and designer purses. These handbags will be showcased on live and silent auctions plus several raffles.\nWe know you come straight from work to the event and you don’t have time to grab a meal. So rather than appetizers\, we will be serving more of a light meal. Yay!!\nAs a group\, we have the opportunity to offer a hand up to women who need it. We encourage you to bring a gently used purse (or purses) as a donation to the Touch of Hope – Purse Project. In exchange for your gently used purse\, you will be entered into a special drawing featured at Hope with Hoses & Handbags. Must be present to win.  The mission of the purse project is to offer comfort to women by offering personal items and purses to give them comfort in times of need.  The Touch of Hope non-profit collects new and gently used purses\, fills them with the essentials\, and then distributes them out to shelters\, crisis organizations\, law enforcement\, and more.\n\nFor more up-to-date information on Hope with Hoses & Handbags\, follow the event on Facebook. \n 
URL:https://justcallmeray.org/event/hope-with-hoses-handbags-2022/
LOCATION:Hermann Hill River Bluff Cottages & Event Center\, 165 Highway 100\, Hermann\, MO\, 65041\, United States
CATEGORIES:JCMR Events
ORGANIZER;CN="Just Call Me Ray":MAILTO:events@justcallmeray,org
END:VEVENT
BEGIN:VEVENT
DTSTART;TZID=America/Chicago:20210225T113000
DTEND;TZID=America/Chicago:20210225T150000
DTSTAMP:20260424T104624
CREATED:20200312T011401Z
LAST-MODIFIED:20200312T011401Z
UID:9628-1614252600-1614265200@justcallmeray.org
SUMMARY:Hope with Hoses & Handbags
DESCRIPTION:We hope you can join us for one of Hermann’s most memorable events of the year! Just Call Me Ray and the Ladies Auxiliary of the Hermann Volunteer Fire Department hosts Hope with Hoses & Handbags fundraiser. We are raising money to provide awareness of the dangers associated with breast implants\, help people rise up through their cancer battles and to purchase life-saving equipment for the fire department. This one-of-a-kind event is full of great networking\, delicious food\, signature drinks\, and the opportunity to walk away with a designer handbag (or handbags!). \nTickets will be for sale in December 2020.
URL:https://justcallmeray.org/event/hope-with-hoses-handbags/
LOCATION:Hermann Hill River Bluff Cottages & Event Center\, 165 Highway 100\, Hermann\, MO\, 65041\, United States
CATEGORIES:JCMR Events
ATTACH;FMTTYPE=image/jpeg:https://justcallmeray.org/wp-content/uploads/52951180_2349922825032258_662938711922573312_o.jpg
ORGANIZER;CN="Just Call Me Ray":MAILTO:events@justcallmeray,org
END:VEVENT
BEGIN:VEVENT
DTSTART;TZID=America/Chicago:20200220T113000
DTEND;TZID=America/Chicago:20200220T150000
DTSTAMP:20260424T104624
CREATED:20191213T012531Z
LAST-MODIFIED:20191228T021257Z
UID:5024-1582198200-1582210800@justcallmeray.org
SUMMARY:Hope with Hoses & Handbags
DESCRIPTION:We hope you can join us for one of Hermann’s most memorable events of the year! Just Call Me Ray and the Ladies Auxiliary of the Hermann Volunteer Fire Department hosts Hope with Hoses & Handbags fundraiser. We are raising money to provide awareness of the dangers associated with breast implants\, help people rise up through their cancer battles and to purchase life-saving equipment for the fire department. This one-of-a-kind event is full of great networking\, delicious food\, signature drinks\, and the opportunity to walk away with a designer handbag (or handbags!). \nNew for 2020!!\n\n“Ask and you shall receive\,” We’ve heard the last couple of years that you come straight from work to the event and you don’t have time to grab a meal. So this year rather than appetizers we will be serving more of a light meal with soup\, salad\, and sandwiches. Yay!!\nAs a group\, we have the opportunity to offer a hand up to women who need it. This year we encourage you to bring a gently used purse (or purses) as a donation to the Perseverance Foundation’s Touch of Hope – Purse Project. In exchange for your gently used purse\, you will be entered into a special drawing featured at Hope with Hoses & Handbags. Must be present to win.  The mission of the purse project is to offer comfort to women by offering personal items and purses to give them comfort in times of need.  The Perseverance Foundation collects new and gently used purses\, fills them with the essentials and then distributes them out to shelters\, crisis organizations\, law enforcement and more.\n\nFor more up-to-date information on Hope with Hoses & Handbags\, follow the event on Facebook.
URL:https://justcallmeray.org/event/hope-with-hoses-handbags-2/
LOCATION:Hermann Hill Village\, 165 Highway 100\, Hermann\, MO\, 65041\, United States
CATEGORIES:JCMR Events
ATTACH;FMTTYPE=image/jpeg:https://justcallmeray.org/wp-content/uploads/2019/08/2017-Hope-With-Hoses-And-Handbags-1.jpg
END:VEVENT
BEGIN:VEVENT
DTSTART;TZID=America/Chicago:20191214T130000
DTEND;TZID=America/Chicago:20191214T150000
DTSTAMP:20260424T104624
CREATED:20191105T034736Z
LAST-MODIFIED:20191105T034736Z
UID:3565-1576328400-1576335600@justcallmeray.org
SUMMARY:My Last...First Show
DESCRIPTION:Just Call Me Ray is proud to sponsor the musical biography about Becky Viola and her journey through cancer. Becky’s performance will get you in the holiday spirit with her heartwarming story about living through and surviving ovarian cancer. Her contagious joyful spirit will make you smile\, laugh and even cry as she shares with you how laughter is truly the best medicine with the love of family  and a lot of faith. \nShow features: music\, storytelling\, audience engagement and surprises. \nTickets:  $10 per person ($15 for premium) purchase online at showboattheatre.org. \nProceeds go to the Showboat Community Theatre in Hermann\, MO. The Showboat Community Theatre is a 501(c)(3) not-for-profit organization.
URL:https://justcallmeray.org/event/my-last-first-show/
LOCATION:Showboat Community Theatre\, 112 East 4th Street\, Hermann\, MO\, 65041\, United States
CATEGORIES:Other Events
ATTACH;FMTTYPE=image/jpeg:https://justcallmeray.org/wp-content/uploads/My-First-Last-Show-Facebook-Event-Cover.jpg
ORGANIZER;CN="Just Call Me Ray":MAILTO:events@justcallmeray,org
END:VEVENT
BEGIN:VEVENT
DTSTART;TZID=America/Chicago:20191101T130000
DTEND;TZID=America/Chicago:20191101T170000
DTSTAMP:20260424T104624
CREATED:20190827T233021Z
LAST-MODIFIED:20191003T022347Z
UID:215-1572613200-1572627600@justcallmeray.org
SUMMARY:Adam Puchta Winery’s Doe Camp
DESCRIPTION:Adam Puctha Winery’s 9th annual Doe Camp is a fundraiser for the Hermann Area Crusade Against Cancer and the Just Call Me Ray organization. Doe Camp is a ladies night out where they feature wine tastings\, vendors\, massages\, raffles and more. The event is open to the public. All funds raised by selling raffle tickets for gift packages. \nAdmission: $5
URL:https://justcallmeray.org/event/adam-puchta-winerys-doe-camp/
LOCATION:Adam Puchta Winery\, 1947 Frene Creek Road\, Hermann\, MO\, 65041\, United States
CATEGORIES:Other Events
ATTACH;FMTTYPE=image/jpeg:https://justcallmeray.org/wp-content/uploads/2019/08/Doe-Camp-2019.jpg
ORGANIZER;CN="Adam Puchta Winery":MAILTO:info@adampuchtawine.com
END:VEVENT
BEGIN:VEVENT
DTSTART;TZID=America/Chicago:20190928T060000
DTEND;TZID=America/Chicago:20190928T130000
DTSTAMP:20260424T104625
CREATED:20190827T232402Z
LAST-MODIFIED:20190911T200027Z
UID:208-1569650400-1569675600@justcallmeray.org
SUMMARY:Top It Off To Cancer Car Cruise
DESCRIPTION:You’re invited to the 2nd annual Just Call Me Ray Top it Off to Cancer car cruise!! \nSaturday\, September 28\, 2019 \nEnjoy stops at Adam Puchta Winery\, Fernweh Distillery\, Stone Hill Winery\, Hermann 1837 Cellar Bar and Hermannhof Winery! \nCheck-in from 11 AM – 1 PM at Adam Puchta Winery \nCost: $35/person \nIncludes: \n\nEvent t-shirt\nDrink specials at participating locations\nAny cover charges at stops during the day\nPost-party at Hermannhof Winery with live music by Twice Baked!\n\nBest of Show Awards will be given out for best convertible\, car\, Jeep & cycle \nThis is a rain or shine event \nAll proceeds benefit Just Call Me Ray. \nSorry\, registration is non-refundable.
URL:https://justcallmeray.org/event/top-it-off-to-cancer/
LOCATION:MO
CATEGORIES:JCMR Events
ATTACH;FMTTYPE=image/jpeg:https://justcallmeray.org/wp-content/uploads/2019/08/Group-picture-1.jpg
ORGANIZER;CN="Just Call Me Ray":MAILTO:events@justcallmeray,org
END:VEVENT
END:VCALENDAR